Workbook

Sheet ก.ย.2569
B2: เดือน กันยายน 2569
B4: ชื่อ | C4: ชื่อ | D4: สกุล | E4: ชื่อ - สกุล | F4: เลขที่บัญชีเงินฝากที่โอน | G4: จำนวนเงิน | N4: หักประกันสังคม | O4: หักสหกรณ์ อุทัย | P4: กยศ/กรอ | Q4: หักสหกรณ์ นว | S4: คงเหลือ
V5: คงเหลือ | W5: ค่าตอบแทนงบหน้า
G6: พนักงานงบหน้า | H6: ครูจ้างสอนครูวิกฤต | I6: ครูพี่เลี้ยง 36 ราย | J6: นักการ 152 ราย | K6: ธุรการ 153 ราย | L6: ครูวิทย์ฯ 19 ราย | M6: เขต | R6: ตกเบิก | Y6: โรงเรียน | Z6: เลขประชาชน | AA6: ตำแหน่ง | AB6: ธนาคาร | AC6: จำนวน | AD6: ลำดับที่
A7: 3610500098891 | B7: นาง | C7: นารีรัตน์ | D7: ทิวันทา | E7: นางนารีรัตน์ ทิวันทา | F7: 6281418123 | G7: 34700 | N7: 875 | Q7: 1500 | S7: 32325 | T7: นางนารีรัตน์ ทิวันทา | U7: 6281418123 | V7: 32325 | W7: 34700 | X7: นางนารีรัตน์ ทิวันทา | Y7: บ้านหนองกระโดน | Z7: 3610500098891 | AA7: พนักงานราชการ | AD7: 1 | AE7: 3610500098891 | AF7: นางนารีรัตน์ ทิวันทา | AG7: =EXACT(A7,AE7) -> TRUE | AH7: =EXACT(E7,AF7) -> TRUE | IV7: =SUM(A7:IU7) -> 3610500235316
A8: 3609800037143 | B8: น.ส. | C8: ศิศกัญชณา | D8: แสงคำ | E8: นางสาวศิศกัญชณา แสงคำ | F8: 6260155042 | G8: 34690 | N8: 875 | S8: 33815 | T8: นางสาวศิศกัญชณา แสงคำ | U8: 6260155042 | V8: 33815 | W8: 34690 | X8: นางสาวศิศกัญชณา แสงคำ | Y8: พระพุทธบาทประสาธน์วิทย์ | Z8: 3609800037143 | AA8: พนักงานราชการ | AD8: 2 | AE8: 3609800037143 | AF8: นางสาวศิศกัญชณา แสงคำ | AG8: =EXACT(A8,AE8) -> TRUE | AH8: =EXACT(E8,AF8) -> TRUE | IV8: =SUM(A8:IU8) -> 3609800175028
A9: 3600400472456 | B9: นาง | C9: จิรนันท์ | D9: วัฒนพฤกษชาติ | E9: นางจิรนันท์ วัฒนพฤกษชาติ | F9: 6081342395 | G9: 34700 | N9: 875 | S9: 33825 | T9: นางจิรนันท์ วัฒนพฤกษชาติ | U9: 6081342395 | V9: 33825 | W9: 34700 | X9: นางจิรนันท์ วัฒนพฤกษชาติ | Y9: วัดป่าเรไร | Z9: 3600400472456 | AA9: พนักงานราชการ | AD9: 3 | AE9: 3600400472456 | AF9: นางจิรนันท์ วัฒนพฤกษชาติ | AG9: =EXACT(A9,AE9) -> TRUE | AH9: =EXACT(E9,AF9) -> TRUE | IV9: =SUM(A9:IU9) -> 3600400610381
A10: 1600900015716 | B10: นาง | C10: สุชัญญา | D10: เขาแก้ว | E10: นางสุชัญญา เขาแก้ว | F10: 6281503155 | G10: 34010 | N10: 875 | Q10: 770 | S10: 32365 | T10: นางสุชัญญา เขาแก้ว | U10: 6281503155 | V10: 32365 | W10: 34010 | X10: นางสุชัญญา เขาแก้ว | Y10: บ้านซับสมบูรณ์ | Z10: 1600900015716 | AA10: พนักงานราชการ | AD10: 4 | AE10: 1600900015716 | AF10: นางสุชัญญา เขาแก้ว | AG10: =EXACT(A10,AE10) -> TRUE | AH10: =EXACT(E10,AF10) -> TRUE | IV10: =SUM(A10:IU10) -> 1600900150111
A11: 1600100400461 | B11: น.ส. | C11: นิโลบล | D11: ลาภมหกุล | E11: นางสาวนิโลบล ลาภมหกุล | F11: 5730372930 | G11: 29130 | N11: 875 | S11: 28255 | T11: นางสาวนิโลบล ลาภมหกุล | U11: 5730372930 | V11: 28255 | W11: 29130 | X11: นางสาวนิโลบล ลาภมหกุล | Y11: หนองกระเปา | Z11: 1600100400461 | AA11: พนักงานราชการ | AD11: 5 | AE11: 1600100400461 | AF11: นางสาวนิโลบล ลาภมหกุล | AG11: =EXACT(A11,AE11) -> TRUE | AH11: =EXACT(E11,AF11) -> TRUE | IV11: =SUM(A11:IU11) -> 1600100516106
A12: 3670800520644 | B12: น.ส. | C12: รภัสศา(มาลัย) | D12: ยศสมบัติ | E12: นางสาวรภัสศา ยศสมบัติ | F12: 9843629922 | G12: 33790 | N12: 875 | S12: 32915 | T12: นางสาวรภัสศา ยศสมบัติ | U12: 9843629922 | V12: 32915 | W12: 33790 | X12: นางสาวรภัสศา ยศสมบัติ | Y12: บ้านวังแรง | Z12: 3670800520644 | AA12: พนักงานราชการ | AD12: 6 | AE12: 3670800520644 | AF12: นางสาวรภัสศา ยศสมบัติ | AG12: =EXACT(A12,AE12) -> TRUE | AH12: =EXACT(E12,AF12) -> TRUE | IV12: =SUM(A12:IU12) -> 3670800654929
A13: 3600400665441 | B13: น.ส. | C13: วรรณนิภา | D13: เพ็งพรม | E13: นางสาววรรณนิภา เพ็งพรม | F13: 6080109883 | G13: 33180 | N13: 875 | Q13: 1950 | S13: 30355 | T13: นางสาววรรณนิภา เพ็งพรม | U13: 6080109883 | V13: 30355 | W13: 33180 | X13: นางสาววรรณนิภา เพ็งพรม | Y13: บ้านสระแก้ว | Z13: 3600400665441 | AA13: พนักงานราชการ | AD13: 7 | AE13: 3600400665441 | AF13: นางสาววรรณนิภา เพ็งพรม | AG13: =EXACT(A13,AE13) -> TRUE | AH13: =EXACT(E13,AF13) -> TRUE | IV13: =SUM(A13:IU13) -> 3600400795336
A14: 3609900826522 | B14: น.ส. | C14: พัชนิดา | D14: ญาดาวงศ์ | E14: นางสาวพัชนิดา ญาดาวงศ์ | F14: 5730112629 | G14: 33280 | N14: 875 | Q14: 3000 | S14: 29405 | T14: นางสาวพัชนิดา ญาดาวงศ์ | U14: 5730112629 | V14: 29405 | W14: 33280 | X14: นางสาวพัชนิดา ญาดาวงศ์ | Y14: บ้านโคกสามัคคี | Z14: 3609900826522 | AA14: พนักงานราชการ | AD14: 8 | AE14: 3609900826522 | AF14: นางสาวพัชนิดา ญาดาวงศ์ | AG14: =EXACT(A14,AE14) -> TRUE | AH14: =EXACT(E14,AF14) -> TRUE | IV14: =SUM(A14:IU14) -> 3609900955767
A15: 2600401028608 | B15: นาย | C15: สัญชัย | D15: จิตรชนะ | E15: นายสัญชัย จิตรชนะ | F15: 6785586798 | G15: 29680 | N15: 875 | P15: 1585 | Q15: 2260 | S15: 24960 | T15: นายสัญชัย จิตรชนะ | U15: 6785586798 | V15: 24960 | W15: 29680 | X15: นายสัญชัย จิตรชนะ | Y15: บ้านเขาปูน | Z15: 2600401028608 | AA15: พนักงานราชการ | AD15: 9 | AE15: 2600401028608 | AF15: นายสัญชัย จิตรชนะ | AG15: =EXACT(A15,AE15) -> TRUE | AH15: =EXACT(E15,AF15) -> TRUE | IV15: =SUM(A15:IU15) -> 2600401142608
A16: 3610100072541 | B16: น.ส. | C16: ฐิติรัตน์ | D16: งามนิธิจารุเมธี | E16: น.ส.ฐิติรัตน์ งามนิธิจารุเมธี | F16: 6624342277 | G16: 33780 | N16: 875 | S16: 32905 | T16: น.ส.ฐิติรัตน์ งามนิธิจารุเมธี | U16: 6624342277 | V16: 32905 | W16: 33780 | X16: น.ส.ฐิติรัตน์ งามนิธิจารุเมธี | Y16: บ้านเขาดิน(ประชานุกูล) | Z16: 3610100072541 | AA16: พนักงานราชการ | AD16: 10 | AE16: 3610100072541 | AF16: น.ส.ฐิติรัตน์ งามนิธิจารุเมธี | AG16: =EXACT(A16,AE16) -> TRUE | AH16: =EXACT(E16,AF16) -> TRUE | IV16: =SUM(A16:IU16) -> 3610100206786
A17: 1100800286470 | B17: น.ส. | C17: ศิภชา | D17: ทองลอย | E17: นางสาวศิภชา ทองลอย | F17: 6070454979 | G17: 26990 | N17: 875 | P17: 720 | S17: 25395 | T17: นางสาวศิภชา ทองลอย | U17: 6070454979 | V17: 25395 | W17: 26990 | X17: นางสาวศิภชา ทองลอย | Y17: วัดห้วยลำไย | Z17: 1100800286470 | AA17: พนักงานราชการ | AD17: 11 | AE17: 1100800286470 | AF17: นางสาวศิภชา ทองลอย | AG17: =EXACT(A17,AE17) -> TRUE | AH17: =EXACT(E17,AF17) -> TRUE | IV17: =SUM(A17:IU17) -> 1100800392835
A18: 3609900684787 | B18: น.ส. | C18: พรรณทิพย์ | D18: อินทร์เพ็ญ | E18: นางสาวพรรณทิพย์ อินทร์เพ็ญ | F18: 5730499574 | G18: 26380 | N18: 875 | S18: 25505 | T18: นางสาวพรรณทิพย์ อินทร์เพ็ญ | U18: 5730499574 | V18: 25505 | W18: 26380 | X18: นางสาวพรรณทิพย์ อินทร์เพ็ญ | Y18: บ้านลาด(ราษฎร์บำรุง) | Z18: 3609900684787 | AA18: พนักงานราชการ | AD18: 12 | AE18: 3609900684787 | AF18: นางสาวพรรณทิพย์ อินทร์เพ็ญ | AG18: =EXACT(A18,AE18) -> TRUE | AH18: =EXACT(E18,AF18) -> TRUE | IV18: =SUM(A18:IU18) -> 3609900789432
A19: 5600900046258 | B19: นาง | C19: น้ำผึ้ง | D19: พุทธรักษา | E19: นางน้ำผึ้ง พุทธรักษา | F19: 6051968903 | G19: 25500 | N19: 875 | S19: 24625 | T19: นางน้ำผึ้ง พุทธรักษา | U19: 6051968903 | V19: 24625 | W19: 25500 | X19: นางน้ำผึ้ง พุทธรักษา | Y19: บ้านเขาหินกลิ้ง | Z19: 5600900046258 | AA19: พนักงานราชการ | AD19: 13 | AE19: 5600900046258 | AF19: นางน้ำผึ้ง พุทธรักษา | AG19: =EXACT(A19,AE19) -> TRUE | AH19: =EXACT(E19,AF19) -> TRUE | IV19: =SUM(A19:IU19) -> 5600900147383
A20: 3610300040341 | B20: น.ส. | C20: บุณิกา | D20: วงษ์ยศ | E20: นางสาวบุณิกา วงษ์ยศ | F20: 6060311784 | G20: 25760 | N20: 875 | S20: 24885 | T20: นางสาวบุณิกา วงษ์ยศ | U20: 6060311784 | V20: 24885 | W20: 25760 | X20: นางสาวบุณิกา วงษ์ยศ | Y20: บ้านหลักสิบเก้าสามัคคี | Z20: 3610300040341 | AA20: พนักงานราชการ | AD20: 14 | AE20: 3610300040341 | AF20: นางสาวบุณิกา วงษ์ยศ | AG20: =EXACT(A20,AE20) -> TRUE | AH20: =EXACT(E20,AF20) -> TRUE | IV20: =SUM(A20:IU20) -> 3610300142506
A21: 1100701795091 | B21: น.ส. | C21: วรรณนุกา | D21: จันทร์นุช | E21: นางสาววรรณนุกา จันทร์นุช | F21: 6778208694 | G21: 25670 | N21: 875 | S21: 24795 | T21: นางสาววรรณนุกา จันทร์นุช | U21: 6778208694 | V21: 24795 | W21: 25670 | X21: นางสาววรรณนุกา จันทร์นุช | Y21: บ้านโค้งสวอง | Z21: 1100701795091 | AA21: พนักงานราชการ | AD21: 15 | AE21: 1100701795091 | AF21: นางสาววรรณนุกา จันทร์นุช | AG21: =EXACT(A21,AE21) -> TRUE | AH21: =EXACT(E21,AF21) -> TRUE | IV21: =SUM(A21:IU21) -> 1100701896896
A22: 1609900345871 | B22: น.ส. | C22: วิภาดา | D22: สัญจร | E22: นางสาววิภาดา สัญจร | F22: 6601688061 | G22: 25860 | N22: 875 | S22: 24985 | T22: นางสาววิภาดา สัญจร | U22: 6601688061 | V22: 24985 | W22: 25860 | X22: นางสาววิภาดา สัญจร | Y22: บ้านรังงาม | Z22: 1609900345871 | AA22: พนักงานราชการ | AD22: 16 | AE22: 1609900345871 | AF22: นางสาววิภาดา สัญจร | AG22: =EXACT(A22,AE22) -> TRUE | AH22: =EXACT(E22,AF22) -> TRUE | IV22: =SUM(A22:IU22) -> 1609900448436
A23: 1600800177960 | B23: นาย | C23: เกียรติศักดิ์ | D23: ปรีดาภัทรสกุล | E23: นายเกียรติศักดิ์ ปรีดาภัทรสกุล | F23: 9815117491 | G23: 24130 | N23: 875 | P23: 1380 | Q23: 300 | S23: 21575 | T23: นายเกียรติศักดิ์ ปรีดาภัทรสกุล | U23: 9815117491 | V23: 21575 | W23: 24130 | X23: นายเกียรติศักดิ์ ปรีดาภัทรสกุล | Y23: วัดถ้ำผาสุขใจ | Z23: 1600800177960 | AA23: พนักงานราชการ | AD23: 17 | AE23: 1600800177960 | AF23: นายเกียรติศักดิ์ ปรีดาภัทรสกุล | AG23: =EXACT(A23,AE23) -> TRUE | AH23: =EXACT(E23,AF23) -> TRUE | IV23: =SUM(A23:IU23) -> 1600800271925
A24: 1600800143836 | B24: นางสาว | C24: ขนิษฐา | D24: แห้วไทยสงค์ | E24: นางสาวขนิษฐา แห้วไทยสงค์ | F24: 6330288208 | G24: 24480 | N24: 875 | P24: 1260 | S24: 22345 | T24: นางสาวขนิษฐา แห้วไทยสงค์ | U24: 6330288208 | V24: 22345 | W24: 24480 | X24: นางสาวขนิษฐา แห้วไทยสงค์ | Y24: บ้านเขาหินกลิ้ง | Z24: 1600800143836 | AA24: พนักงานราชการ | AD24: 18 | AE24: 1600800143836 | AF24: นางสาวขนิษฐา แห้วไทยสงค์ | AG24: =EXACT(A24,AE24) -> TRUE | AH24: =EXACT(E24,AF24) -> TRUE | IV24: =SUM(A24:IU24) -> 1600800239621
A25: 1679800156863 | B25: นางสาว | C25: จุฑารัตน์ | D25: ยันดี | E25: นางสาวจุฑามาศ ยันดี | F25: 6619945023 | G25: 24480 | N25: 875 | P25: 145 | S25: 23460 | T25: นางสาวจุฑามาศ ยันดี | U25: 6619945023 | V25: 23460 | W25: 24480 | X25: นางสาวจุฑามาศ ยันดี | Y25: บ้านท่าเรือ | Z25: 1679800156863 | AA25: พนักงานราชการ | AD25: 19 | AE25: 1679800156863 | AF25: นางสาวจุฑามาศ ยันดี | AG25: =EXACT(A25,AE25) -> TRUE | AH25: =EXACT(E25,AF25) -> TRUE | IV25: =SUM(A25:IU25) -> 1679800253763
A26: 1640100234651 | B26: นางสาว | C26: คณนา | D26: จันทร์ฉาย | E26: นางสาวคณนา จันทร์ฉาย | F26: 5730695055 | G26: 24460 | N26: 875 | S26: 23585 | T26: นางสาวคณนา จันทร์ฉาย | U26: 5730695055 | V26: 23585 | W26: 24460 | X26: นางสาวคณนา จันทร์ฉาย | Y26: วัดทุ่งทะเลทราย | Z26: 1640100234651 | AA26: พนักงานราชการ | AD26: 20 | AE26: 1640100234651 | AF26: นางสาวคณนา จันทร์ฉาย | AG26: =EXACT(A26,AE26) -> TRUE | AH26: =EXACT(E26,AF26) -> TRUE | IV26: =SUM(A26:IU26) -> 1640100331616
A27: 3540200482149 | B27: นาง | C27: ไรวินทร์ | D27: จินาวงศ์ | E27: นางไรวินทร์ จินาวงศ์ | F27: 5730559232 | G27: 24560 | N27: 875 | S27: 23685 | T27: นางไรวินทร์ จินาวงศ์ | U27: 5730559232 | V27: 23685 | W27: 24560 | X27: นางไรวินทร์ จินาวงศ์ | Y27: สพป.นครสวรรค์ เขต 3 | Z27: 3540200482149 | AA27: พนักงานราชการ | AD27: 21 | AE27: 3540200482149 | AF27: นางไรวินทร์ จินาวงศ์ | AG27: =EXACT(A27,AE27) -> TRUE | AH27: =EXACT(E27,AF27) -> TRUE | IV27: =SUM(A27:IU27) -> 7080401061663
A28: 1629900406110 | B28: นางสาว | C28: ศศิมา | D28: เกษทรัพย์ | E28: นางสาวศศิมา เกษทรัพย์ | F28: 3470832072 | G28: 23480 | N28: 875 | S28: 22605 | T28: นางสาวศศิมา เกษทรัพย์ | U28: 3470832072 | V28: 22605 | W28: 23480 | X28: นางสาวศศิมา เกษทรัพย์ | Y28: บ้านพุนกยูง | Z28: 1629900406110 | AA28: พนักงานราชการ | AD28: 22 | AE28: 1629900406110 | AF28: นางสาวศศิมา เกษทรัพย์ | AG28: =EXACT(A28,AE28) -> TRUE | AH28: =EXACT(E28,AF28) -> TRUE | IV28: =SUM(A28:IU28) -> 1629900499155
A29: 1670400170526 | B29: นางสาว | C29: นฤมล | D29: มพุธ | E29: นางสาวนฤมล สมพุธ | F29: 9630570173 | G29: 23820 | N29: 875 | Q29: 500 | S29: 22445 | T29: นางสาวนฤมล สมพุธ | U29: 9630570173 | V29: 22445 | W29: 23820 | X29: นางสาวนฤมล สมพุธ | Y29: วัดหนองเบน | Z29: 1670400170526 | AA29: พนักงานราชการ | AD29: 23 | AE29: 1670400170526 | AF29: นางสาวนฤมล สมพุธ | AG29: =EXACT(A29,AE29) -> TRUE | AH29: =EXACT(E29,AF29) -> TRUE | IV29: =SUM(A29:IU29) -> 1670400264431
A30: 1110300081909 | B30: นางสาว | C30: สุนันทา | D30: สายแก้ว | E30: นางสาวสุนันทา สายแก้ว | F30: 6742069163 | G30: 23530 | N30: 875 | P30: 1080 | S30: 21575 | T30: นางสาวสุนันทา สายแก้ว | U30: 6742069163 | V30: 21575 | W30: 23530 | X30: นางสาวสุนันทา สายแก้ว | Y30: บ้านห้วยตะโก | Z30: 1110300081909 | AA30: พนักงานราชการ | AD30: 24 | AE30: 1110300081909 | AF30: นางสาวสุนันทา สายแก้ว | AG30: =EXACT(A30,AE30) -> TRUE | AH30: =EXACT(E30,AF30) -> TRUE | IV30: =SUM(A30:IU30) -> 1110300174074
A31: 1669700091603 | B31: นาย | C31: ราเมศร์ | D31: รอดยิ้ม | E31: นายราเมศร์ รอดยิ้ม | F31: 6130191448 | G31: 23530 | N31: 875 | Q31: 1940 | S31: 20715 | T31: นายราเมศร์ รอดยิ้ม | U31: 6130191448 | V31: 20715 | W31: 23530 | X31: นายราเมศร์ รอดยิ้ม | Y31: บ้านหนองปล้องโพช | Z31: 1669700091603 | AA31: พนักงานราชการ | AD31: 25 | AE31: 1669700091603 | AF31: นายราเมศร์ รอดยิ้ม | AG31: =EXACT(A31,AE31) -> TRUE | AH31: =EXACT(E31,AF31) -> TRUE | IV31: =SUM(A31:IU31) -> 1669700182908
A32: 1529900696062 | B32: นางสาว | C32: วราภรณ์ | D32: เครือปา | E32: นางสาววราภรณ์ เครือปา | F32: 5730773560 | G32: 23820 | N32: 875 | S32: 22945 | T32: นางสาววราภรณ์ เครือปา | U32: 5730773560 | V32: 22945 | W32: 23820 | X32: นางสาววราภรณ์ เครือปา | Y32: วัดเขาดุม | Z32: 1529900696062 | AA32: พนักงานราชการ | AD32: 26 | AE32: 1529900696062 | AF32: นางสาววราภรณ์ เครือปา | AG32: =EXACT(A32,AE32) -> TRUE | AH32: =EXACT(E32,AF32) -> TRUE | IV32: =SUM(A32:IU32) -> 1529900790467
A33: 1600800016974 | B33: นาง | C33: ชนิกานต์ | D33: พุ่มเปี่ยม | E33: นางชนิกานต์ พุ่มเปี่ยม | F33: 5730210973 | G33: 23950 | N33: 875 | P33: 600 | Q33: 8600 | S33: 13875 | T33: นางชนิกานต์ พุ่มเปี่ยม | U33: 5730210973 | V33: 13875 | W33: 23950 | X33: นางชนิกานต์ พุ่มเปี่ยม | Y33: สพป.นครสวรรค์ เขต 3 | Z33: 1600800016974 | AA33: พนักงานราชการ | AD33: 27 | AE33: 1600800016974 | AF33: นางชนิกานต์ พุ่มเปี่ยม | AG33: =EXACT(A33,AE33) -> TRUE | AH33: =EXACT(E33,AF33) -> TRUE | IV33: =SUM(A33:IU33) -> 1600800102699
A34: 1100701947443 | B34: นางสาว | C34: สุมาลี | D34: ดียิ้ม | E34: นางสาวสุมาลี ดียิ้ม | F34: 6280590224 | G34: 23530 | N34: 875 | S34: 22655 | T34: นางสาวสุมาลี ดียิ้ม | U34: 6280590224 | V34: 22655 | W34: 23530 | X34: นางสาวสุมาลี ดียิ้ม | Y34: บ้านรังงาม | Z34: 1100701947443 | AA34: พนักงานราชการ | AD34: 28 | AE34: 1100701947443 | AF34: นางสาวสุมาลี ดียิ้ม | AG34: =EXACT(A34,AE34) -> TRUE | AH34: =EXACT(E34,AF34) -> TRUE | IV34: =SUM(A34:IU34) -> 1100702040688
A35: 1670300202558 | B35: นางสาว | C35: บุญยาพร | D35: แสงอยู่ | E35: นางสาวบุญยาพร แสงอยู่ | F35: 6430275892 | G35: 23780 | N35: 875 | P35: 921 | S35: 21984 | T35: นางสาวบุญยาพร แสงอยู่ | U35: 6430275892 | V35: 21984 | W35: 23780 | X35: นางสาวบุญยาพร แสงอยู่ | Y35: บ้านไร่ประชาสรรค์ | Z35: 1670300202558 | AA35: พนักงานราชการ | AD35: 29 | AE35: 1670300202558 | AF35: นางสาวบุญยาพร แสงอยู่ | AG35: =EXACT(A35,AE35) -> TRUE | AH35: =EXACT(E35,AF35) -> TRUE | IV35: =SUM(A35:IU35) -> 1670300295882
A36: 1670500343805 | B36: นางสาว | C36: สุภาพร | D36: บุญเที่ยงตรง | E36: นางสาวสุภาพร บุญเที่ยงตรง | F36: 9835277230 | G36: 23870 | N36: 875 | P36: 1626 | S36: 21369 | T36: นางสาวสุภาพร บุญเที่ยงตรง | U36: 9835277230 | V36: 21369 | W36: 23870 | X36: นางสาวสุภาพร บุญเที่ยงตรง | Y36: บ้านหนองสีซอ | Z36: 1670500343805 | AA36: พนักงานราชการ | AD36: 30 | AE36: 1670500343805 | AF36: นางสาวสุภาพร บุญเที่ยงตรง | AG36: =EXACT(A36,AE36) -> TRUE | AH36: =EXACT(E36,AF36) -> TRUE | IV36: =SUM(A36:IU36) -> 1670500436784
A37: 1640701181748 | B37: นางสาว | C37: นภัสพร | D37: หลงแย้ม | E37: นางสาวนภัสพร หลงแย้ม | F37: 6170492171 | G37: 23780 | N37: 875 | S37: 22905 | T37: นางสาวนภัสพร หลงแย้ม | U37: 6170492171 | V37: 22905 | W37: 23780 | X37: นางสาวนภัสพร หลงแย้ม | Y37: วัดเขาวง | Z37: 1640701181748 | AA37: พนักงานราชการ | AD37: 31 | AE37: 1640701181748 | AF37: นางสาวนภัสพร หลงแย้ม | AG37: =EXACT(A37,AE37) -> TRUE | AH37: =EXACT(E37,AF37) -> TRUE | IV37: =SUM(AB37:IU37) -> 0
A38: 1629900484242 | B38: นางสาว | C38: กุสุมา | D38: กลิ่นหอม | E38: นางสาวกุสุมา กลิ่นหอม | F38: 6210661874 | G38: 23480 | N38: 875 | S38: 22605 | T38: นางสาวกุสุมา กลิ่นหอม | U38: 6210661874 | V38: 22605 | W38: 23480 | X38: นางสาวกุสุมา กลิ่นหอม | Y38: บ้านหนองขาม | Z38: 1629900484242 | AA38: พนักงานราชการ | AD38: 32 | AE38: 1629900484242 | AF38: นางสาวกุสุมา กลิ่นหอม | AG38: =EXACT(A38,AE38) -> TRUE | AH38: =EXACT(E38,AF38) -> TRUE | IV38: =SUM(A38:IU38) -> 1629900577287
A39: 1559900194598 | B39: นาย | C39: เสริฐรัชฒ์ | D39: บุญนาค | E39: นายเสริฐรัชฒ์ บุญนาค | F39: 5730780206 | G39: 23530 | N39: 875 | S39: 22655 | T39: นายเสริฐรัชฒ์ บุญนาค | U39: 5730780206 | V39: 22655 | W39: 23530 | X39: นายเสริฐรัชฒ์ บุญนาค | Y39: บ้านวังมะเดื่อ | Z39: 1559900194598 | AA39: พนักงานราชการ | AD39: 33 | AE39: 1559900194598 | AF39: นายเสริฐรัชฒ์ บุญนาค | AG39: =EXACT(A39,AE39) -> TRUE | AH39: =EXACT(E39,AF39) -> TRUE | IV39: =SUM(A39:IU39) -> 1559900287843
A40: 1619900321254 | B40: นางสาว | C40: ชลิตา | D40: สุทธินันท์ | E40: นางสาวชลิตา สุทธินันท์ | F40: 6600278943 | G40: 22660 | N40: 875 | S40: 21785 | T40: นางสาวชลิตา สุทธินันท์ | U40: 6600278943 | V40: 21785 | W40: 22660 | X40: นางสาวชลิตา สุทธินันท์ | Y40: บ้านหนองกระทุ่ม | Z40: 1619900321254 | AA40: พนักงานราชการ | AD40: 34 | AE40: 1619900321254 | AF40: นางสาวชลิตา สุทธินันท์ | AG40: =EXACT(A40,AE40) -> TRUE | AH40: =EXACT(E40,AF40) -> TRUE | IV40: =SUM(AD40:IU40) -> 0
A41: 1600900104026 | B41: นางสาว | C41: มนชิดา | D41: จงถือกลาง | E41: นางสาวมนชิดา จงถือกลาง | F41: 6616368939 | G41: 22660 | N41: 875 | S41: 21785 | T41: นางสาวมนชิดา จงถือกลาง | U41: 6616368939 | V41: 21785 | W41: 22660 | X41: นางสาวมนชิดา จงถือกลาง | Y41: บ้านโคกมะขวิด | Z41: 1600900104026 | AA41: พนักงานราชการ | AD41: 35 | AE41: 1600900104026 | AF41: นางสาวมนชิดา จงถือกลาง | AG41: =EXACT(A41,AE41) -> TRUE | AH41: =EXACT(E41,AF41) -> TRUE | IV41: =SUM(A41:IU41) -> 1600900193791
A42: 1600100632826 | B42: นางสาว | C42: สุภาภรณ์ | D42: ทองคำน้อย | E42: นางสาวสุภาภรณ์ ทองคำน้อย | F42: 6628208605 | G42: 22980 | N42: 875 | S42: 22105 | T42: นางสาวสุภาภรณ์ ทองคำน้อย | U42: 6628208605 | V42: 22105 | W42: 22980 | X42: นางสาวสุภาภรณ์ ทองคำน้อย | Y42: วัดสายลำโพงกลาง | Z42: 1600100632826 | AA42: พนักงานราชการ | AD42: 36 | AE42: 1600100632826 | AF42: นางสาวสุภาภรณ์ ทองคำน้อย | AG42: =EXACT(A42,AE42) -> TRUE | AH42: =EXACT(E42,AF42) -> TRUE | IV42: =SUM(A42:IU42) -> 1600100723871
A43: 1659900574420 | B43: นาย | C43: พิษณุ | D43: เพ็ชรรัตน์ | E43: นายพิษณุ เพ็ชรรัตน์ | F43: 5730811551 | G43: 22980 | N43: 875 | S43: 22105 | T43: นายพิษณุ เพ็ชรรัตน์ | U43: 5730811551 | V43: 22105 | W43: 22980 | X43: นายพิษณุ เพ็ชรรัตน์ | Y43: บ้านหนองสุขสันต์ | Z43: 1659900574420 | AA43: พนักงานราชการ | AD43: 37 | AE43: 1659900574420 | AF43: นายพิษณุ เพ็ชรรัตน์ | AG43: =EXACT(A43,AE43) -> TRUE | AH43: =EXACT(E43,AF43) -> TRUE | IV43: =SUM(A43:IU43) -> 1659900665465
A44: 1540700084294 | B44: นางสาว | C44: นิจวิภา | D44: วงค์ปินตา | E44: นางสาวนิจวิภา วงค์ปินตา | F44: 5280291277 | G44: 22980 | N44: 875 | P44: 190 | S44: 21915 | T44: นางสาวนิจวิภา วงค์ปินตา | U44: 5280291277 | V44: 21915 | W44: 22980 | X44: นางสาวนิจวิภา วงค์ปินตา | Y44: บ้านลาด(ราษฏร์บำรุง) | Z44: 1540700084294 | AA44: พนักงานราชการ | AD44: 38 | AE44: 1540700084294 | AF44: นางสาวนิจวิภา วงค์ปินตา | AG44: =EXACT(A44,AE44) -> TRUE | AH44: =EXACT(E44,AF44) -> TRUE | IV44: =SUM(A44:IU44) -> 1540700175149
A45: 1600100645791 | B45: นางสาว | C45: จิรนันท์ | D45: ภู่ภักดี | E45: นางสาวจิรนันท์ ภู่ภักดี | F45: 6050949719 | G45: 22980 | N45: 875 | P45: 1140 | Q45: 900 | S45: 20065 | T45: นางสาวจิรนันท์ ภู่ภักดี | U45: 6050949719 | V45: 20065 | W45: 22980 | X45: นางสาวจิรนันท์ ภู่ภักดี | Y45: บ้านเทพสถาพร | Z45: 1600100645791 | AA45: พนักงานราชการ | AD45: 39 | AE45: 1600100645791 | AF45: นางสาวจิรนันท์ ภู่ภักดี | AG45: =EXACT(A45,AE45) -> TRUE | AH45: =EXACT(E45,AF45) -> TRUE | IV45: =SUM(A45:IU45) -> 1600100734796
A46: 1189900211755 | B46: นางสาว | C46: ปวีณา | D46: สระเสริม | E46: นางสาวปวีณา สระเสริม | F46: 6641656934 | G46: 22550 | N46: 875 | Q46: 230 | S46: 21445 | T46: นางสาวปวีณา สระเสริม | U46: 6641656934 | V46: 21445 | W46: 22550 | X46: นางสาวปวีณา สระเสริม | Y46: บ้านหนองตาราม | Z46: 1189900211755 | AA46: พนักงานราชการ | AD46: 40 | AE46: 1189900211755 | AF46: นางสาวปวีณา สระเสริม | AG46: =EXACT(A46,AE46) -> TRUE | AH46: =EXACT(E46,AF46) -> TRUE | IV46: =SUM(A46:IU46) -> 1189900300850
A47: 1640100275055 | B47: นางสาว | C47: ศิริพร | D47: อินอยู่ | E47: นางสาวศิริพร อินอยู่ | F47: 5730831757 | G47: 22550 | N47: 875 | P47: 1320 | S47: 20355 | T47: นางสาวศิริพร อินอยู่ | U47: 5730831757 | V47: 20355 | W47: 22550 | X47: นางสาวศิริพร อินอยู่ | Y47: วัดบ้านใหม่ | Z47: 1640100275055 | AA47: พนักงานราชการ | AD47: 41 | AE47: 1640100275055 | AF47: นางสาวศิริพร อินอยู่ | AG47: =EXACT(A47,AE47) -> TRUE | AH47: =EXACT(E47,AF47) -> TRUE | IV47: =SUM(A47:IU47) -> 1640100363060
A48: 1609700142542 | B48: นาง | C48: จินตนา | D48: ยศสมบัติ | E48: นางจินตนา ยศสมบัติ | F48: 6260389795 | G48: 22550 | N48: 875 | P48: 1350 | S48: 20325 | T48: นางจินตนา ยศสมบัติ | U48: 6260389795 | V48: 20325 | W48: 22550 | X48: นางจินตนา ยศสมบัติ | Y48: บ้านหนองสุขสันต์ | Z48: 1609700142542 | AA48: พนักงานราชการ | AD48: 42 | AE48: 1609700142542 | AF48: นางจินตนา ยศสมบัติ | AG48: =EXACT(A48,AE48) -> TRUE | AH48: =EXACT(E48,AF48) -> TRUE | IV48: =SUM(A48:IU48) -> 1609700230517
A49: 1610200002301 | B49: นางสาว | C49: รัชพร | D49: บัวเทศ | E49: นางสาวรัชพร บัวเทศ | F49: 5730026943 | G49: 22660 | N49: 875 | S49: 21785 | T49: นางสาวรัชพร บัวเทศ | U49: 5730026943 | V49: 21785 | W49: 22660 | X49: นางสาวรัชพร บัวเทศ | Y49: บ้านราษฎร์อุปถัมภ์ | Z49: 1610200002301 | AA49: พนักงานราชการ | AD49: 43 | AE49: 1610200002301 | AF49: นางสาวรัชพร บัวเทศ | AG49: =EXACT(A49,AE49) -> TRUE | AH49: =EXACT(E49,AF49) -> TRUE | IV49: =SUM(A49:IU49) -> 1610200092066
A50: 1600100760191 | B50: นางสาว | C50: เสาวรส | D50: ฉีกกระโทก | E50: นางสาวเสาวรส ฉีกกระโทก | F50: 4510748221 | G50: 22550 | N50: 875 | S50: 21675 | T50: นางสาวเสาวรส ฉีกกระโทก | U50: 4510748221 | V50: 21675 | W50: 22550 | X50: นางสาวเสาวรส ฉีกกระโทก | Y50: วัดประชาสรรค์ | Z50: 1600100760191 | AA50: พนักงานราชการ | AD50: 44 | AE50: 1600100760191 | AF50: นางสาวเสาวรส ฉีกกระโทก | AG50: =EXACT(A50,AE50) -> TRUE | AH50: =EXACT(E50,AF50) -> TRUE | IV50: =SUM(A50:IU50) -> 1600100849516
A51: 1180200085112 | B51: นางสาว | C51: วิลัยวรรณ | D51: ขำฉนวน | E51: นางสาววิลัยวรรณ ขำฉนวน | F51: 9849049871 | G51: 22980 | N51: 875 | P51: 709 | S51: 21396 | T51: นางสาววิลัยวรรณ ขำฉนวน | U51: 9849049871 | V51: 21396 | W51: 22980 | X51: นางสาววิลัยวรรณ ขำฉนวน | Y51: บ้านหนองแอก | Z51: 1180200085112 | AA51: พนักงานราชการ | AD51: 45 | AE51: 1180200085112 | AF51: นางสาววิลัยวรรณ ขำฉนวน | AG51: =EXACT(A51,AE51) -> TRUE | AH51: =EXACT(E51,AF51) -> TRUE | IV51: =SUM(A51:IU51) -> 1180200175448
A52: 1100702575582 | B52: นางสาว | C52: ณัชชา | D52: ศรีสุนนท์ | E52: นางสาวณัชชา ศรีสุนนท์ | F52: 5730392656 | G52: 22660 | N52: 875 | S52: 21785 | T52: นางสาวณัชชา ศรีสุนนท์ | U52: 5730392656 | V52: 21785 | W52: 22660 | X52: นางสาวณัชชา ศรีสุนนท์ | Y52: วัดลาดทิพยรส | Z52: 1100702575582 | AA52: พนักงานราชการ | AD52: 46 | AE52: 1100702575582 | AF52: นางสาวณัชชา ศรีสุนนท์ | AG52: =EXACT(A52,AE52) -> TRUE | AH52: =EXACT(E52,AF52) -> TRUE | IV52: =SUM(A52:IU52) -> 1100702665347
A53: 1601200121387 | B53: นางสาว | C53: ธิวาพร | D53: แสงสว่าง | E53: นางสาวธิวาพร แสงสว่าง | F53: 6070434315 | G53: 22660 | N53: 875 | P53: 840 | Q53: 300 | S53: 20645 | T53: นางสาวธิวาพร แสงสว่าง | U53: 6070434315 | V53: 20645 | W53: 22660 | X53: นางสาวธิวาพร แสงสว่าง | Y53: บ้านลาดตะกุด | Z53: 1601200121387 | AA53: พนักงานราชการ | AD53: 47 | AE53: 1601200121387 | AF53: นางสาวธิวาพร แสงสว่าง | AG53: =EXACT(A53,AE53) -> TRUE | AH53: =EXACT(E53,AF53) -> TRUE | IV53: =SUM(A53:IU53) -> 1601200210012
A54: 1170600181151 | B54: นางสาว | C54: เจนจิรา | D54: จันทร์เพชร | E54: นางสาวเจนจิรา จันทร์เพชร | F54: 1240287461 | G54: 22550 | N54: 875 | S54: 21675 | T54: นางสาวเจนจิรา จันทร์เพชร | U54: 1240287461 | V54: 21675 | W54: 22550 | X54: นางสาวเจนจิรา จันทร์เพชร | Y54: บ้านวังคาง | Z54: 1170600181151 | AA54: พนักงานราชการ | AD54: 48 | AE54: 1170600181151 | AF54: นางสาวเจนจิรา จันทร์เพชร | AG54: =EXACT(A54,AE54) -> TRUE | AH54: =EXACT(E54,AF54) -> TRUE | IV54: =SUM(A54:IU54) -> 1170600270476
A55: 1619900312336 | B55: นาย | C55: พงศธร | D55: ช่ออ่อน | E55: นายพงศธร ช่ออ่อน | F55: 6080385902 | G55: 22550 | N55: 875 | S55: 21675 | T55: นายพงศธร ช่ออ่อน | U55: 6080385902 | V55: 21675 | W55: 22550 | X55: นายพงศธร ช่ออ่อน | Y55: วัดช่องแกระ | Z55: 1619900312336 | AA55: พนักงานราชการ | AD55: 49 | AE55: 1619900312336 | AF55: นายพงศธร ช่ออ่อน | AG55: =EXACT(A55,AE55) -> TRUE | AH55: =EXACT(E55,AF55) -> TRUE | IV55: =SUM(A55:IU55) -> 1619900401661
A56: 1539900295637 | B56: นางสาว | C56: ชรินรัตน์ | D56: เชื้ออุ่น | E56: นางสาวชรินรัตน์ เชื้ออุ่น | F56: 5730789416 | G56: 21780 | N56: 875 | P56: 1445 | Q56: 300 | S56: 19160 | T56: นางสาวชรินรัตน์ เชื้ออุ่น | U56: 5730789416 | V56: 19160 | W56: 21780 | X56: นางสาวชรินรัตน์ เชื้ออุ่น | Y56: บ้านหนองเต็งรัง | Z56: 1539900295637 | AA56: พนักงานราชการ | AD56: 50 | AE56: 1539900295637 | AF56: นางสาวชรินรัตน์ เชื้ออุ่น | AG56: =EXACT(A56,AE56) -> TRUE | AH56: =EXACT(E56,AF56) -> TRUE | IV56: =SUM(A56:IU56) -> 1539900380137
A57: 1500901232568 | B57: นางสาว | C57: รัชริษา | D57: กุญช์ธนาอาภา | E57: นางสาวรัชริษา กุญช์ธนาอาภา | F57: 4550424311 | G57: 21780 | N57: 875 | S57: 20905 | T57: นางสาวรัชริษา กุญช์ธนาอาภา | U57: 4550424311 | V57: 20905 | W57: 21780 | X57: นางสาวรัชริษา กุญช์ธนาอาภา | Y57: บ้านโคกกระดี่ | Z57: 1500901232568 | AA57: พนักงานราชการ | AD57: 51 | AE57: 1500901232568 | AF57: นางสาวรัชริษา กุญช์ธนาอาภา | AG57: =EXACT(A57,AE57) -> TRUE | AH57: =EXACT(E57,AF57) -> TRUE | IV57: =SUM(A57:IU57) -> 1500901318813
A58: 1549900501865 | B58: นางสาว | C58: อโณทัย | D58: ขึมจันทร์ | E58: นางสาวอโณทัย ขึมจันทร์ | F58: 5060771547 | G58: 21780 | N58: 875 | S58: 20905 | T58: นางสาวอโณทัย ขึมจันทร์ | U58: 5060771547 | V58: 20905 | W58: 21780 | X58: นางสาวอโณทัย ขึมจันทร์ | Y58: วิฑูรย์ประชารักษ์ | Z58: 1549900501865 | AA58: พนักงานราชการ | AD58: 52 | AE58: 1549900501865 | AF58: นางสาวอโณทัย ขึมจันทร์ | AG58: =EXACT(A58,AE58) -> TRUE | AH58: =EXACT(E58,AF58) -> TRUE | IV58: =SUM(A58:IU58) -> 1549900588110
A59: 1619900268345 | B59: นางสาว | C59: วรรณภา | D59: ช้อยบัวงาม | E59: นางสาววรรณภา ช้อยบัวงาม | F59: 6330387125 | G59: 21780 | N59: 875 | P59: 762 | S59: 20143 | T59: นางสาววรรณภา ช้อยบัวงาม | U59: 6330387125 | V59: 20143 | W59: 21780 | X59: นางสาววรรณภา ช้อยบัวงาม | Y59: บ้านโพนทอง | Z59: 1619900268345 | AA59: พนักงานราชการ | AD59: 53 | AE59: 1619900268345 | AF59: นางสาววรรณภา ช้อยบัวงาม | AG59: =EXACT(A59,AE59) -> TRUE | AH59: =EXACT(E59,AF59) -> TRUE | IV59: =SUM(A59:IU59) -> 1619900353828
A60: 1650201180998 | B60: นางสาว | C60: วนิชญา | D60: จันทร์บ่อโพธิ์ | E60: นางสาววนิชญา จันทร์บ่อโพธิ์ | F60: 6300425584 | G60: 21780 | N60: 875 | P60: 837 | Q60: 1000 | S60: 19068 | T60: นางสาววนิชญา จันทร์บ่อโพธิ์ | U60: 6300425584 | V60: 19068 | W60: 21780 | X60: นางสาววนิชญา จันทร์บ่อโพธิ์ | Y60: บ้านโคกมะขวิด | Z60: 1650201180998 | AA60: พนักงานราชการ | AD60: 54 | AE60: 1650201180998 | AF60: นางสาววนิชญา จันทร์บ่อโพธิ์ | AG60: =EXACT(A60,AE60) -> TRUE | AH60: =EXACT(E60,AF60) -> TRUE | IV60: =SUM(A60:IU60) -> 1650201265406
A61: 1600100361491 | B61: นางสาว | C61: กชพรรณ | D61: สุทธศิริ | E61: นางสาวกชพรรณ สุทธศิริ | F61: 9819178533 | G61: 21780 | N61: 875 | P61: 2054 | S61: 18851 | T61: นางสาวกชพรรณ สุทธศิริ | U61: 9819178533 | V61: 18851 | W61: 21780 | X61: นางสาวกชพรรณ สุทธศิริ | Y61: บ้านห้วยน้ำลาด | Z61: 1600100361491 | AA61: พนักงานราชการ | AD61: 55 | AE61: 1600100361491 | AF61: นางสาวกชพรรณ สุทธศิริ | AG61: =EXACT(A61,AE61) -> TRUE | AH61: =EXACT(E61,AF61) -> TRUE | IV61: =SUM(A61:IU61) -> 1600100445682
A62: 1529900937230 | B62: ว่าที่ ร.ต.หญิง | C62: สุทธิดา | D62: เคียนถา | E62: ว่าที่ ร.ต.หญิง สุทธิดา เคียนถา | F62: 5730791798 | G62: 21780 | N62: 875 | S62: 20905 | T62: ว่าที่ ร.ต.หญิง สุทธิดา เคียนถา | U62: 5730791798 | V62: 20905 | W62: 21780 | X62: ว่าที่ ร.ต.หญิง สุทธิดา เคียนถา | Y62: บ้านลาด(ราษร์บำรุง) | Z62: 1529900937230 | AA62: พนักงานราชการ | AD62: 56 | AE62: 1529900937230 | AF62: ว่าที่ ร.ต.หญิง สุทธิดา เคียนถา | AG62: =EXACT(A62,AE62) -> TRUE | AH62: =EXACT(E62,AF62) -> TRUE | IV62: =SUM(A62:IU62) -> 1529901023475
A63: 1600100796225 | B63: นางสาว | C63: ปนัดดา | D63: รอดกุน | E63: นางสาวปนัดดา รอดกุน | F63: 6653271897 | G63: 21780 | N63: 875 | S63: 20905 | T63: นางสาวปนัดดา รอดกุน | U63: 6653271897 | V63: 20905 | W63: 21780 | X63: นางสาวปนัดดา รอดกุน | Y63: บ้านล้ำเจริญ | Z63: 1600100796225 | AA63: พนักงานราชการ | AD63: 57 | AE63: 1600100796225 | AF63: นางสาวปนัดดา รอดกุน | AG63: =EXACT(A63,AE63) -> TRUE | AH63: =EXACT(E63,AF63) -> TRUE | IV63: =SUM(A63:IU63) -> 1600100882470
A64: 1640700137974 | B64: นางสาว | C64: สโรชา | D64: ยอกร | E64: นางสาวสโรชา ยอกร | F64: 6000471556 | G64: 21780 | N64: 875 | S64: 20905 | T64: นางสาวสโรชา ยอกร | U64: 6000471556 | V64: 20905 | W64: 21780 | X64: นางสาวสโรชา ยอกร | Y64: บ้านหัวเขาตาคลี | Z64: 1640700137974 | AA64: พนักงานราชการ | AD64: 58 | AE64: 1640700137974 | AF64: นางสาวสโรชา ยอกร | AG64: =EXACT(A64,AE64) -> TRUE | AH64: =EXACT(E64,AF64) -> TRUE | IV64: =SUM(A64:IU64) -> 1640700224219
A65: 1600401210963 | B65: นางสาว | C65: ตณิตา | D65: สุระพาน | E65: นางสาวตณิตา สุระพาน | F65: 6722092135 | G65: 21780 | N65: 875 | S65: 20905 | T65: นางสาวตณิตา สุระพาน | U65: 6722092135 | V65: 20905 | W65: 21780 | X65: นางสาวตณิตา สุระพาน | Y65: ห้วยวารีใต้ | Z65: 1600401210963 | AA65: พนักงานราชการ | AD65: 59 | AE65: 1600401210963 | AF65: นางสาวตณิตา สุระพาน | AG65: =EXACT(A65,AE65) -> TRUE | AH65: =EXACT(E65,AF65) -> TRUE
A66: 1600100072227 | B66: นางสาว | C66: วริญม์ธิดา | D66: ก้อนจันทร์เทศ | E66: นางสาววริญม์ธิดา ก้อนจันทร์เทศ | F66: 9805412628 | G66: 21780 | N66: 875 | S66: 20905 | T66: นางสาววริญม์ธิดา ก้อนจันทร์เทศ | U66: 9805412628 | V66: 20905 | W66: 21780 | X66: นางสาววริญม์ธิดา ก้อนจันทร์เทศ | Y66: บ้านห้วยตะโก | Z66: 1600100072227 | AA66: พนักงานราชการ | AD66: 60 | AE66: 1600100072227 | AF66: นางสาววริญม์ธิดา ก้อนจันทร์เทศ | AG66: =EXACT(A66,AE66) -> TRUE | AH66: =EXACT(E66,AF66) -> TRUE
A67: 1600900080747 | B67: นางสาว | C67: กรชุลี | D67: บรรทุกรรม | E67: นางสาวกรชุลี บรรทุกรรม | F67: 6050779708 | G67: 21780 | N67: 875 | S67: 20905 | T67: นางสาวกรชุลี บรรทุกรรม | U67: 6050779708 | V67: 20905 | W67: 21780 | X67: นางสาวกรชุลี บรรทุกรรม | Y67: บ้านบ่อไทยสามัคคี | Z67: 1600900080747 | AA67: พนักงานราชการ | AD67: 61 | AE67: 1600900080747 | AF67: นางสาวกรชุลี บรรทุกรรม | AG67: =EXACT(A67,AE67) -> TRUE | AH67: =EXACT(E67,AF67) -> TRUE
A68: 3600400582839 | B68: นางสาว | C68: กัญญา | D68: นุ่มมีศรี | E68: นางสาวกัญญา นุ่มมีศรี | F68: 9823530645 | G68: 21780 | N68: 875 | S68: 20905 | T68: นางสาวกัญญา นุ่มมีศรี | U68: 9823530645 | V68: 20905 | W68: 21780 | X68: นางสาวกัญญา นุ่มมีศรี | Y68: บ้านหนองแอก | Z68: 3600400582839 | AA68: พนักงานราชการ | AD68: 62 | AE68: 3600400582839 | AF68: นางสาวกัญญา นุ่มมีศรี | AG68: =EXACT(A68,AE68) -> TRUE | AH68: =EXACT(E68,AF68) -> TRUE
A69: 1600100631129 | B69: นางสาว | C69: สิริกร | D69: แก้วโต | E69: นางสาวสิริกร แก้วโต | F69: 6050930635 | G69: 23470 | N69: 875 | S69: 22595 | T69: นางสาวสิริกร แก้วโต | U69: 6050930635 | V69: 22595 | W69: 23470 | X69: นางสาวสิริกร แก้วโต | Y69: วัดสายลำโพงกลาง | Z69: 1600100631129 | AA69: พนักงานราชการ | AD69: 63 | AE69: 1600100631129 | AF69: นางสาวสิริกร แก้วโต | AG69: =EXACT(A69,AE69) -> TRUE | AH69: =EXACT(E69,AF69) -> TRUE
A70: 3601000509868 | B70: นางสาว | C70: จรุญรัตน์ | D70: คำคม | E70: นางสาวจรุญรัตน์ คำคม | F70: 6190752675 | G70: 23510 | N70: 875 | O70: 500 | S70: 22135 | T70: นางสาวจรุญรัตน์ คำคม | U70: 6190752675 | V70: 22135 | W70: 23510 | X70: นางสาวจรุญรัตน์ คำคม | Y70: บ้านหนองไม้แดง | Z70: 3601000509868 | AA70: พนักงานราชการ | AD70: 64 | AE70: 3601000509868 | AF70: นางสาวจรุญรัตน์ คำคม | AG70: =EXACT(A70,AE70) -> TRUE | AH70: =EXACT(E70,AF70) -> TRUE
A71: 1600800179971 | B71: นางสาว | C71: อัมพวรรณ์ | D71: สุขแจ่ม | E71: นางสาวอัมพวรรณ์ สุขแจ่ม | F71: 6190753159 | G71: 23360 | N71: 875 | O71: 500 | S71: 21985 | T71: นางสาวอัมพวรรณ์ สุขแจ่ม | U71: 6190753159 | V71: 21985 | W71: 23360 | X71: นางสาวอัมพวรรณ์ สุขแจ่ม | Y71: บ้านทับลุ่มประชาพัฒนา | Z71: 1600800179971 | AA71: พนักงานราชการ | AD71: 65 | AE71: 1600800179971 | AF71: นางสาวอัมพวรรณ์ สุขแจ่ม | AG71: =EXACT(A71,AE71) -> TRUE | AH71: =EXACT(E71,AF71) -> TRUE
A72: 1601200085747 | B72: นางสาว | C72: วิยะดา | D72: แสนเกียง | E72: นางสาววิยะดา แสนเกียง | F72: 6330652430 | G72: 28040 | N72: 875 | S72: 27165 | T72: นางสาววิยะดา แสนเกียง | U72: 6330652430 | V72: 27165 | W72: 28040 | X72: นางสาววิยะดา แสนเกียง | Y72: วัดวาปีรัตนาราม | Z72: 1601200085747 | AA72: พนักงานราชการ | AD72: 66 | AE72: 1601200085747 | AF72: นางสาววิยะดา แสนเกียง | AG72: =EXACT(A72,AE72) -> TRUE | AH72: =EXACT(E72,AF72) -> TRUE
A73: 1600100794541 | B73: นางสาว | C73: วริศรา | D73: ทองรอด | E73: นางสาววริศรา ทองรอด | F73: 6103156092 | G73: 23620 | N73: 875 | S73: 22745 | T73: นางสาววริศรา ทองรอด | U73: 6103156092 | V73: 22745 | W73: 23620 | X73: นางสาววริศรา ทองรอด | Y73: สพป.นครสวรรค์ เขต 3 | Z73: 1600100794541 | AA73: พนักงานราชการ | AD73: 67 | AE73: 1600100794541 | AF73: นางสาววริศรา ทองรอด | AG73: =EXACT(A73,AE73) -> TRUE | AH73: =EXACT(E73,AF73) -> TRUE
A74: 1638800000307 | B74: นางสาว | C74: วริษา | D74: สิงหราช | E74: นางสาววริษา สิงหราช | F74: 6203071587 | G74: 21780 | N74: 875 | S74: 20905 | T74: นางสาววริษา สิงหราช | U74: 6203071587 | V74: 20905 | W74: 21780 | X74: นางสาววริษา สิงหราช | Y74: บ้านพุมะค่า | Z74: 1638800000307 | AA74: พนักงานราชการ | AD74: 68 | AE74: 1638800000307 | AF74: นางสาววริษา สิงหราช | AG74: =EXACT(A74,AE74) -> TRUE | AH74: =EXACT(E74,AF74) -> TRUE
A75: 1669900435292 | B75: นาย | C75: สิรารมย์ | D75: มุสิกะพันธุ์ | E75: นายสิรารมย์ มุสิกะพันธุ์ | F75: 6360354179 | G75: 21780 | N75: 875 | P75: 659 | S75: 20246 | T75: นายสิรารมย์ มุสิกะพันธุ์ | U75: 6360354179 | V75: 20246 | W75: 21780 | X75: นายสิรารมย์ มุสิกะพันธุ์ | Y75: บ้านหนองเต็งรัง | Z75: 1669900435292 | AA75: พนักงานราชการ | AD75: 69 | AE75: 1669900435292 | AF75: นายสิรารมย์ มุสิกะพันธุ์ | AG75: =EXACT(A75,AE75) -> TRUE | AH75: =EXACT(E75,AF75) -> TRUE
A76: 1539900625521 | B76: นางสาว | C76: จารุวรรณ | D76: ประเสริฐ | E76: นางสาวจารุวรรณ ประเสริฐ | F76: 9845514758 | G76: 21780 | N76: 875 | S76: 20905 | T76: นางสาวจารุวรรณ ประเสริฐ | U76: 9845514758 | V76: 20905 | W76: 21780 | X76: นางสาวจารุวรรณ ประเสริฐ | Y76: บ้านดงมัน | Z76: 1539900625521 | AA76: พนักงานราชการ | AD76: 70 | AE76: 1539900625521 | AF76: นางสาวจารุวรรณ ประเสริฐ | AG76: =EXACT(A76,AE76) -> TRUE | AH76: =EXACT(E76,AF76) -> TRUE
A77: 1660500171257 | B77: นางสาว | C77: ธัญญาภรณ์ | D77: นาคประไพ | E77: นางสาวธัญญาภรณ์ นาคประไพ | F77: 6700664543 | G77: 21780 | N77: 875 | S77: 20905 | T77: นางสาวธัญญาภรณ์ นาคประไพ | U77: 6700664543 | V77: 20905 | W77: 21780 | X77: นางสาวธัญญาภรณ์ นาคประไพ | Y77: บ้านวังโพรง | Z77: 1660500171257 | AA77: พนักงานราชการ | AD77: 71 | AE77: 1660500171257 | AF77: นางสาวธัญญาภรณ์ นาคประไพ | AG77: =EXACT(A77,AE77) -> TRUE | AH77: =EXACT(E77,AF77) -> TRUE
A78: 1669900382563 | B78: นางสาว | C78: เกวลี | D78: สร้อยสังวาลย์ | E78: นางสาวเกวลี สร้อยสังวาลย์ | F78: 6100647028 | G78: 21780 | N78: 875 | S78: 20905 | T78: นางสาวเกวลี สร้อยสังวาลย์ | U78: 6100647028 | V78: 20905 | W78: 21780 | X78: นางสาวเกวลี สร้อยสังวาลย์ | Y78: บ้านหนองเนินน | Z78: 1669900382563 | AA78: พนักงานราชการ | AD78: 72 | AE78: 1669900382563 | AF78: นางสาวเกวลี สร้อยสังวาลย์ | AG78: =EXACT(A78,AE78) -> TRUE | AH78: =EXACT(E78,AF78) -> TRUE
A79: 1539900686822 | B79: นาย | C79: วรุตม์ | D79: อุบลม่วง | E79: นายวรุตม์ อุบลม่วง | F79: 5170290829 | G79: 21780 | N79: 875 | S79: 20905 | T79: นายวรุตม์ อุบลม่วง | U79: 5170290829 | V79: 20905 | W79: 21780 | X79: นายวรุตม์ อุบลม่วง | Y79: บ้านหนองบัวตากลาน | Z79: 1539900686822 | AA79: พนักงานราชการ | AD79: 73 | AE79: 1539900686822 | AF79: นายวรุตม์ อุบลม่วง | AG79: =EXACT(A79,AE79) -> TRUE | AH79: =EXACT(E79,AF79) -> TRUE
A80: 1609900586746 | B80: นางสาว | C80: สิรินญา | D80: มังกร | E80: นางสาวสิรินญา มังกร | F80: 6330543542 | G80: 21780 | N80: 875 | R80: 4918.07 | S80: 25823.07 | T80: นางสาวสิรินญา มังกร | U80: 6330543542 | V80: 25823.07 | W80: 21780 | X80: นางสาวสิรินญา มังกร | Y80: บ้านโคกกระดี่ | Z80: 1609900586746 | AA80: พนักงานราชการ | AD80: 74 | AE80: 1609900586746 | AF80: นางสาวสิรินญา มังกร | AG80: =EXACT(A80,AE80) -> TRUE | AH80: =EXACT(E80,AF80) -> TRUE
A81: 1600101882851 | B81: นาย | C81: กิตติศักดิ์ | D81: แสงแจ่ม | E81: นายกิตติศักดิ์ แสงแจ่ม | F81: 6796055381 | G81: 21054 | N81: 875 | S81: 20179 | T81: นายกิตติศักดิ์ แสงแจ่ม | U81: 6796055381 | V81: 20179 | W81: 21054 | X81: นายกิตติศักดิ์ แสงแจ่ม | Y81: บ้านดงมัน | Z81: 1600101882851 | AA81: พนักงานราชการ | AD81: 75 | AE81: 1600101882851 | AF81: นายกิตติศักดิ์ แสงแจ่ม | AG81: =EXACT(A81,AE81) -> TRUE | AH81: =EXACT(E81,AF81) -> TRUE
A82: 1609900446171 | B82: นางสาว | C82: สสิพร | D82: กลิ่นเกษร | E82: นางสาวสสิพร กลิ่นเกษร | F82: 9861670157 | G82: 21054 | N82: 875 | S82: 20179 | T82: นางสาวสสิพร กลิ่นเกษร | U82: 9861670157 | V82: 20179 | W82: 21054 | X82: นางสาวสสิพร กลิ่นเกษร | Y82: บ้านหนองบัวตากลาน | Z82: 1609900446171 | AA82: พนักงานราชการ | AD82: 76 | AE82: 1609900446171 | AF82: นางสาวสสิพร กลิ่นเกษร | AG82: =EXACT(A82,AE82) -> TRUE | AH82: =EXACT(E82,AF82) -> TRUE
A83: 1530500061819 | B83: นาย | C83: สุริยา | D83: ฉิมมานาง | E83: นายสุริยา ฉิมมานาง | F83: 5370263485 | G83: 21054 | N83: 875 | S83: 20179 | T83: นายสุริยา ฉิมมานาง | U83: 5370263485 | V83: 20179 | W83: 21054 | X83: นายสุริยา ฉิมมานาง | Y83: ชุมชนบ้านชุมพล | Z83: 1530500061819 | AA83: พนักงานราชการ | AD83: 77 | AE83: 1530500061819 | AF83: นายสุริยา ฉิมมานาง | AG83: =EXACT(A83,AE83) -> TRUE | AH83: =EXACT(E83,AF83) -> TRUE

Sheet สลิป
A2: 0
B3: ประจำเดือน | C3: =+ก.ย.2569!B2 -> เดือน กันยายน 2569
B4: ชื่อ | C4: =VLOOKUP(A2,ก.ย.2569!A7:E4129,5,0) -> #N/A | E4: โรงเรียน | F4: =VLOOKUP(A2,ก.ย.2569!A:Y,25,0) -> #N/A
B5: เลขที่บัญชี | C5: =VLOOKUP(A2,ก.ย.2569!A7:F4129,6,0) -> #N/A | E5: ตำแหน่ง | F5: =VLOOKUP(A2,ก.ย.2569!A7:AA443,27,0) -> #N/A
B7: รายการรับ
B8: ค่าตอบแทน | F8: =VLOOKUP(A2,ก.ย.2569!A7:W163,23,0) -> #N/A | G8: บาท
B9: ตกเบิก | F9: =VLOOKUP(A2,ก.ย.2569!A7:W163,18,0) -> #N/A | G9: บาท
B10: ค่าตอบแทนพิเศษ | G10: บาท
B11: รวมรับ | F11: =SUM(F8:F10) -> #N/A | G11: บาท
B12: รายการจ่าย
B13: ประกันสังคม | F13: =VLOOKUP(A2,ก.ย.2569!A7:N443,14,0) -> #N/A | G13: บาท
B14: สหกรณ์ออมทรัพย์ครูนครสวรรค์ | F14: =VLOOKUP(A2,ก.ย.2569!A7:Q443,17,0) -> #N/A | G14: บาท
B15: สหกรณ์ออมทรัพย์ครูอุทัยธานี | F15: =VLOOKUP(A2,ก.ย.2569!A7:O443,15,0) -> #N/A | G15: บาท
B16: กยศ/กรอ | F16: =VLOOKUP(A2,ก.ย.2569!A7:P443,16,0) -> #N/A | G16: บาท
B17: รวมจ่าย | F17: =SUM(F13:F16) -> #N/A | G17: บาท
B18: คงเหลือ | F18: =SUM(F11-F17) -> #N/A | G18: บาท
