Workbook

Sheet ก.ย.2569
B2: เดือน กันยายน 2569
B4: ชื่อ | C4: ชื่อ | D4: สกุล | E4: ชื่อ - สกุล | F4: เลขที่บัญชีเงินฝากที่โอน | G4: จำนวนเงิน | N4: หักประกันสังคม | O4: หักสหกรณ์ อุทัย | P4: กยศ/กรอ | Q4: หักสหกรณ์ นว | S4: คงเหลือ
V5: คงเหลือ | W5: ค่าตอบแทนงบหน้า
G6: พนักงานงบหน้า | H6: ครูจ้างสอนครูวิกฤต | I6: ครูพี่เลี้ยง 36 ราย | J6: นักการ 152 ราย | K6: ธุรการ 153 ราย | L6: ครูวิทย์ฯ 19 ราย | M6: เขต | R6: ตกเบิก | Y6: โรงเรียน | Z6: เลขประชาชน | AA6: ตำแหน่ง | AB6: ธนาคาร | AC6: จำนวน | AD6: ลำดับที่
A7: 3610500098891 | B7: นาง | C7: นารีรัตน์ | D7: ทิวันทา | E7: นางนารีรัตน์ ทิวันทา | F7: 6281418123 | G7: 34700 | N7: 875 | Q7: 1500 | S7: 32325 | T7: นางนารีรัตน์ ทิวันทา | U7: 6281418123 | V7: 32325 | W7: 34700 | X7: นางนารีรัตน์ ทิวันทา | Y7: บ้านหนองกระโดน | Z7: 3610500098891 | AA7: พนักงานราชการ | AD7: 1 | AE7: 3610500098891 | AF7: นางนารีรัตน์ ทิวันทา | AG7: =EXACT(A7,AE7) -> TRUE | AH7: =EXACT(E7,AF7) -> TRUE | IV7: =SUM(A7:IU7) -> 3610500235316
A8: 3609800037143 | B8: น.ส. | C8: ศิศกัญชณา | D8: แสงคำ | E8: นางสาวศิศกัญชณา แสงคำ | F8: 6260155042 | G8: 34690 | N8: 875 | S8: 33815 | T8: นางสาวศิศกัญชณา แสงคำ | U8: 6260155042 | V8: 33815 | W8: 34690 | X8: นางสาวศิศกัญชณา แสงคำ | Y8: พระพุทธบาทประสาธน์วิทย์ | Z8: 3609800037143 | AA8: พนักงานราชการ | AD8: 2 | AE8: 3609800037143 | AF8: นางสาวศิศกัญชณา แสงคำ | AG8: =EXACT(A8,AE8) -> TRUE | AH8: =EXACT(E8,AF8) -> TRUE | IV8: =SUM(A8:IU8) -> 3609800175028
A9: 3600400472456 | B9: นาง | C9: จิรนันท์ | D9: วัฒนพฤกษชาติ | E9: นางจิรนันท์ วัฒนพฤกษชาติ | F9: 6081342395 | G9: 34700 | N9: 875 | S9: 33825 | T9: นางจิรนันท์ วัฒนพฤกษชาติ | U9: 6081342395 | V9: 33825 | W9: 34700 | X9: นางจิรนันท์ วัฒนพฤกษชาติ | Y9: วัดป่าเรไร | Z9: 3600400472456 | AA9: พนักงานราชการ | AD9: 3 | AE9: 3600400472456 | AF9: นางจิรนันท์ วัฒนพฤกษชาติ | AG9: =EXACT(A9,AE9) -> TRUE | AH9: =EXACT(E9,AF9) -> TRUE | IV9: =SUM(A9:IU9) -> 3600400610381
A10: 1600900015716 | B10: นาง | C10: สุชัญญา | D10: เขาแก้ว | E10: นางสุชัญญา เขาแก้ว | F10: 6281503155 | G10: 34010 | N10: 875 | Q10: 770 | S10: 32365 | T10: นางสุชัญญา เขาแก้ว | U10: 6281503155 | V10: 32365 | W10: 34010 | X10: นางสุชัญญา เขาแก้ว | Y10: บ้านซับสมบูรณ์ | Z10: 1600900015716 | AA10: พนักงานราชการ | AD10: 4 | AE10: 1600900015716 | AF10: นางสุชัญญา เขาแก้ว | AG10: =EXACT(A10,AE10) -> TRUE | AH10: =EXACT(E10,AF10) -> TRUE | IV10: =SUM(A10:IU10) -> 1600900150111
A11: 1600100400461 | B11: น.ส. | C11: นิโลบล | D11: ลาภมหกุล | E11: นางสาวนิโลบล ลาภมหกุล | F11: 5730372930 | G11: 29130 | N11: 875 | S11: 28255 | T11: นางสาวนิโลบล ลาภมหกุล | U11: 5730372930 | V11: 28255 | W11: 29130 | X11: นางสาวนิโลบล ลาภมหกุล | Y11: หนองกระเปา | Z11: 1600100400461 | AA11: พนักงานราชการ | AD11: 5 | AE11: 1600100400461 | AF11: นางสาวนิโลบล ลาภมหกุล | AG11: =EXACT(A11,AE11) -> TRUE | AH11: =EXACT(E11,AF11) -> TRUE | IV11: =SUM(A11:IU11) -> 1600100516106
A12: 3670800520644 | B12: น.ส. | C12: รภัสศา(มาลัย) | D12: ยศสมบัติ | E12: นางสาวรภัสศา ยศสมบัติ | F12: 9843629922 | G12: 33790 | N12: 875 | S12: 32915 | T12: นางสาวรภัสศา ยศสมบัติ | U12: 9843629922 | V12: 32915 | W12: 33790 | X12: นางสาวรภัสศา ยศสมบัติ | Y12: บ้านวังแรง | Z12: 3670800520644 | AA12: พนักงานราชการ | AD12: 6 | AE12: 3670800520644 | AF12: นางสาวรภัสศา ยศสมบัติ | AG12: =EXACT(A12,AE12) -> TRUE | AH12: =EXACT(E12,AF12) -> TRUE | IV12: =SUM(A12:IU12) -> 3670800654929
A13: 3600400665441 | B13: น.ส. | C13: วรรณนิภา | D13: เพ็งพรม | E13: นางสาววรรณนิภา เพ็งพรม | F13: 6080109883 | G13: 33180 | N13: 875 | Q13: 1950 | S13: 30355 | T13: นางสาววรรณนิภา เพ็งพรม | U13: 6080109883 | V13: 30355 | W13: 33180 | X13: นางสาววรรณนิภา เพ็งพรม | Y13: บ้านสระแก้ว | Z13: 3600400665441 | AA13: พนักงานราชการ | AD13: 7 | AE13: 3600400665441 | AF13: นางสาววรรณนิภา เพ็งพรม | AG13: =EXACT(A13,AE13) -> TRUE | AH13: =EXACT(E13,AF13) -> TRUE | IV13: =SUM(A13:IU13) -> 3600400795336
A14: 3609900826522 | B14: น.ส. | C14: พัชนิดา | D14: ญาดาวงศ์ | E14: นางสาวพัชนิดา ญาดาวงศ์ | F14: 5730112629 | G14: 33280 | N14: 875 | Q14: 3000 | S14: 29405 | T14: นางสาวพัชนิดา ญาดาวงศ์ | U14: 5730112629 | V14: 29405 | W14: 33280 | X14: นางสาวพัชนิดา ญาดาวงศ์ | Y14: บ้านโคกสามัคคี | Z14: 3609900826522 | AA14: พนักงานราชการ | AD14: 8 | AE14: 3609900826522 | AF14: นางสาวพัชนิดา ญาดาวงศ์ | AG14: =EXACT(A14,AE14) -> TRUE | AH14: =EXACT(E14,AF14) -> TRUE | IV14: =SUM(A14:IU14) -> 3609900955767
A15: 2600401028608 | B15: นาย | C15: สัญชัย | D15: จิตรชนะ | E15: นายสัญชัย จิตรชนะ | F15: 6785586798 | G15: 29680 | N15: 875 | P15: 1585 | Q15: 2260 | S15: 24960 | T15: นายสัญชัย จิตรชนะ | U15: 6785586798 | V15: 24960 | W15: 29680 | X15: นายสัญชัย จิตรชนะ | Y15: บ้านเขาปูน | Z15: 2600401028608 | AA15: พนักงานราชการ | AD15: 9 | AE15: 2600401028608 | AF15: นายสัญชัย จิตรชนะ | AG15: =EXACT(A15,AE15) -> TRUE | AH15: =EXACT(E15,AF15) -> TRUE | IV15: =SUM(A15:IU15) -> 2600401142608
A16: 3610100072541 | B16: น.ส. | C16: ฐิติรัตน์ | D16: งามนิธิจารุเมธี | E16: น.ส.ฐิติรัตน์ งามนิธิจารุเมธี | F16: 6624342277 | G16: 33780 | N16: 875 | S16: 32905 | T16: น.ส.ฐิติรัตน์ งามนิธิจารุเมธี | U16: 6624342277 | V16: 32905 | W16: 33780 | X16: น.ส.ฐิติรัตน์ งามนิธิจารุเมธี | Y16: บ้านเขาดิน(ประชานุกูล) | Z16: 3610100072541 | AA16: พนักงานราชการ | AD16: 10 | AE16: 3610100072541 | AF16: น.ส.ฐิติรัตน์ งามนิธิจารุเมธี | AG16: =EXACT(A16,AE16) -> TRUE | AH16: =EXACT(E16,AF16) -> TRUE | IV16: =SUM(A16:IU16) -> 3610100206786
A17: 1100800286470 | B17: น.ส. | C17: ศิภชา | D17: ทองลอย | E17: นางสาวศิภชา ทองลอย | F17: 6070454979 | G17: 26990 | N17: 875 | P17: 720 | S17: 25395 | T17: นางสาวศิภชา ทองลอย | U17: 6070454979 | V17: 25395 | W17: 26990 | X17: นางสาวศิภชา ทองลอย | Y17: วัดห้วยลำไย | Z17: 1100800286470 | AA17: พนักงานราชการ | AD17: 11 | AE17: 1100800286470 | AF17: นางสาวศิภชา ทองลอย | AG17: =EXACT(A17,AE17) -> TRUE | AH17: =EXACT(E17,AF17) -> TRUE | IV17: =SUM(A17:IU17) -> 1100800392835
A18: 3609900684787 | B18: น.ส. | C18: พรรณทิพย์ | D18: อินทร์เพ็ญ | E18: นางสาวพรรณทิพย์ อินทร์เพ็ญ | F18: 5730499574 | G18: 26380 | N18: 875 | S18: 25505 | T18: นางสาวพรรณทิพย์ อินทร์เพ็ญ | U18: 5730499574 | V18: 25505 | W18: 26380 | X18: นางสาวพรรณทิพย์ อินทร์เพ็ญ | Y18: บ้านลาด(ราษฎร์บำรุง) | Z18: 3609900684787 | AA18: พนักงานราชการ | AD18: 12 | AE18: 3609900684787 | AF18: นางสาวพรรณทิพย์ อินทร์เพ็ญ | AG18: =EXACT(A18,AE18) -> TRUE | AH18: =EXACT(E18,AF18) -> TRUE | IV18: =SUM(A18:IU18) -> 3609900789432
A19: 5600900046258 | B19: นาง | C19: น้ำผึ้ง | D19: พุทธรักษา | E19: นางน้ำผึ้ง พุทธรักษา | F19: 6051968903 | G19: 25500 | N19: 875 | S19: 24625 | T19: นางน้ำผึ้ง พุทธรักษา | U19: 6051968903 | V19: 24625 | W19: 25500 | X19: นางน้ำผึ้ง พุทธรักษา | Y19: บ้านเขาหินกลิ้ง | Z19: 5600900046258 | AA19: พนักงานราชการ | AD19: 13 | AE19: 5600900046258 | AF19: นางน้ำผึ้ง พุทธรักษา | AG19: =EXACT(A19,AE19) -> TRUE | AH19: =EXACT(E19,AF19) -> TRUE | IV19: =SUM(A19:IU19) -> 5600900147383
A20: 3610300040341 | B20: น.ส. | C20: บุณิกา | D20: วงษ์ยศ | E20: นางสาวบุณิกา วงษ์ยศ | F20: 6060311784 | G20: 25760 | N20: 875 | S20: 24885 | T20: นางสาวบุณิกา วงษ์ยศ | U20: 6060311784 | V20: 24885 | W20: 25760 | X20: นางสาวบุณิกา วงษ์ยศ | Y20: บ้านหลักสิบเก้าสามัคคี | Z20: 3610300040341 | AA20: พนักงานราชการ | AD20: 14 | AE20: 3610300040341 | AF20: นางสาวบุณิกา วงษ์ยศ | AG20: =EXACT(A20,AE20) -> TRUE | AH20: =EXACT(E20,AF20) -> TRUE | IV20: =SUM(A20:IU20) -> 3610300142506
A21: 1100701795091 | B21: น.ส. | C21: วรรณนุกา | D21: จันทร์นุช | E21: นางสาววรรณนุกา จันทร์นุช | F21: 6778208694 | G21: 25670 | N21: 875 | S21: 24795 | T21: นางสาววรรณนุกา จันทร์นุช | U21: 6778208694 | V21: 24795 | W21: 25670 | X21: นางสาววรรณนุกา จันทร์นุช | Y21: บ้านโค้งสวอง | Z21: 1100701795091 | AA21: พนักงานราชการ | AD21: 15 | AE21: 1100701795091 | AF21: นางสาววรรณนุกา จันทร์นุช | AG21: =EXACT(A21,AE21) -> TRUE | AH21: =EXACT(E21,AF21) -> TRUE | IV21: =SUM(A21:IU21) -> 1100701896896
A22: 1609900345871 | B22: น.ส. | C22: วิภาดา | D22: สัญจร | E22: นางสาววิภาดา สัญจร | F22: 6601688061 | G22: 25860 | N22: 875 | S22: 24985 | T22: นางสาววิภาดา สัญจร | U22: 6601688061 | V22: 24985 | W22: 25860 | X22: นางสาววิภาดา สัญจร | Y22: บ้านรังงาม | Z22: 1609900345871 | AA22: พนักงานราชการ | AD22: 16 | AE22: 1609900345871 | AF22: นางสาววิภาดา สัญจร | AG22: =EXACT(A22,AE22) -> TRUE | AH22: =EXACT(E22,AF22) -> TRUE | IV22: =SUM(A22:IU22) -> 1609900448436
A23: 1600800177960 | B23: นาย | C23: เกียรติศักดิ์ | D23: ปรีดาภัทรสกุล | E23: นายเกียรติศักดิ์ ปรีดาภัทรสกุล | F23: 9815117491 | G23: 24130 | N23: 875 | P23: 1380 | Q23: 300 | S23: 21575 | T23: นายเกียรติศักดิ์ ปรีดาภัทรสกุล | U23: 9815117491 | V23: 21575 | W23: 24130 | X23: นายเกียรติศักดิ์ ปรีดาภัทรสกุล | Y23: วัดถ้ำผาสุขใจ | Z23: 1600800177960 | AA23: พนักงานราชการ | AD23: 17 | AE23: 1600800177960 | AF23: นายเกียรติศักดิ์ ปรีดาภัทรสกุล | AG23: =EXACT(A23,AE23) -> TRUE | AH23: =EXACT(E23,AF23) -> TRUE | IV23: =SUM(A23:IU23) -> 1600800271925
A24: 1600800143836 | B24: นางสาว | C24: ขนิษฐา | D24: แห้วไทยสงค์ | E24: นางสาวขนิษฐา แห้วไทยสงค์ | F24: 6330288208 | G24: 24480 | N24: 875 | P24: 1260 | S24: 22345 | T24: นางสาวขนิษฐา แห้วไทยสงค์ | U24: 6330288208 | V24: 22345 | W24: 24480 | X24: นางสาวขนิษฐา แห้วไทยสงค์ | Y24: บ้านเขาหินกลิ้ง | Z24: 1600800143836 | AA24: พนักงานราชการ | AD24: 18 | AE24: 1600800143836 | AF24: นางสาวขนิษฐา แห้วไทยสงค์ | AG24: =EXACT(A24,AE24) -> TRUE | AH24: =EXACT(E24,AF24) -> TRUE | IV24: =SUM(A24:IU24) -> 1600800239621
A25: 1679800156863 | B25: นางสาว | C25: จุฑารัตน์ | D25: ยันดี | E25: นางสาวจุฑามาศ ยันดี | F25: 6619945023 | G25: 24480 | N25: 875 | P25: 145 | S25: 23460 | T25: นางสาวจุฑามาศ ยันดี | U25: 6619945023 | V25: 23460 | W25: 24480 | X25: นางสาวจุฑามาศ ยันดี | Y25: บ้านท่าเรือ | Z25: 1679800156863 | AA25: พนักงานราชการ | AD25: 19 | AE25: 1679800156863 | AF25: นางสาวจุฑามาศ ยันดี | AG25: =EXACT(A25,AE25) -> TRUE | AH25: =EXACT(E25,AF25) -> TRUE | IV25: =SUM(A25:IU25) -> 1679800253763
A26: 1640100234651 | B26: นางสาว | C26: คณนา | D26: จันทร์ฉาย | E26: นางสาวคณนา จันทร์ฉาย | F26: 5730695055 | G26: 24460 | N26: 875 | S26: 23585 | T26: นางสาวคณนา จันทร์ฉาย | U26: 5730695055 | V26: 23585 | W26: 24460 | X26: นางสาวคณนา จันทร์ฉาย | Y26: วัดทุ่งทะเลทราย | Z26: 1640100234651 | AA26: พนักงานราชการ | AD26: 20 | AE26: 1640100234651 | AF26: นางสาวคณนา จันทร์ฉาย | AG26: =EXACT(A26,AE26) -> TRUE | AH26: =EXACT(E26,AF26) -> TRUE | IV26: =SUM(A26:IU26) -> 1640100331616
A27: 3540200482149 | B27: นาง | C27: ไรวินทร์ | D27: จินาวงศ์ | E27: นางไรวินทร์ จินาวงศ์ | F27: 5730559232 | G27: 24560 | N27: 875 | S27: 23685 | T27: นางไรวินทร์ จินาวงศ์ | U27: 5730559232 | V27: 23685 | W27: 24560 | X27: นางไรวินทร์ จินาวงศ์ | Y27: สพป.นครสวรรค์ เขต 3 | Z27: 3540200482149 | AA27: พนักงานราชการ | AD27: 21 | AE27: 3540200482149 | AF27: นางไรวินทร์ จินาวงศ์ | AG27: =EXACT(A27,AE27) -> TRUE | AH27: =EXACT(E27,AF27) -> TRUE | IV27: =SUM(A27:IU27) -> 7080401061663
A28: 1629900406110 | B28: นางสาว | C28: ศศิมา | D28: เกษทรัพย์ | E28: นางสาวศศิมา เกษทรัพย์ | F28: 3470832072 | G28: 23480 | N28: 875 | S28: 22605 | T28: นางสาวศศิมา เกษทรัพย์ | U28: 3470832072 | V28: 22605 | W28: 23480 | X28: นางสาวศศิมา เกษทรัพย์ | Y28: บ้านพุนกยูง | Z28: 1629900406110 | AA28: พนักงานราชการ | AD28: 22 | AE28: 1629900406110 | AF28: นางสาวศศิมา เกษทรัพย์ | AG28: =EXACT(A28,AE28) -> TRUE | AH28: =EXACT(E28,AF28) -> TRUE | IV28: =SUM(A28:IU28) -> 1629900499155
A29: 1670400170526 | B29: นางสาว | C29: นฤมล | D29: มพุธ | E29: นางสาวนฤมล สมพุธ | F29: 9630570173 | G29: 23820 | N29: 875 | Q29: 500 | S29: 22445 | T29: นางสาวนฤมล สมพุธ | U29: 9630570173 | V29: 22445 | W29: 23820 | X29: นางสาวนฤมล สมพุธ | Y29: วัดหนองเบน | Z29: 1670400170526 | AA29: พนักงานราชการ | AD29: 23 | AE29: 1670400170526 | AF29: นางสาวนฤมล สมพุธ | AG29: =EXACT(A29,AE29) -> TRUE | AH29: =EXACT(E29,AF29) -> TRUE | IV29: =SUM(A29:IU29) -> 1670400264431
A30: 1110300081909 | B30: นางสาว | C30: สุนันทา | D30: สายแก้ว | E30: นางสาวสุนันทา สายแก้ว | F30: 6742069163 | G30: 23530 | N30: 875 | P30: 1080 | S30: 21575 | T30: นางสาวสุนันทา สายแก้ว | U30: 6742069163 | V30: 21575 | W30: 23530 | X30: นางสาวสุนันทา สายแก้ว | Y30: บ้านห้วยตะโก | Z30: 1110300081909 | AA30: พนักงานราชการ | AD30: 24 | AE30: 1110300081909 | AF30: นางสาวสุนันทา สายแก้ว | AG30: =EXACT(A30,AE30) -> TRUE | AH30: =EXACT(E30,AF30) -> TRUE | IV30: =SUM(A30:IU30) -> 1110300174074
A31: 1669700091603 | B31: นาย | C31: ราเมศร์ | D31: รอดยิ้ม | E31: นายราเมศร์ รอดยิ้ม | F31: 6130191448 | G31: 23530 | N31: 875 | Q31: 1940 | S31: 20715 | T31: นายราเมศร์ รอดยิ้ม | U31: 6130191448 | V31: 20715 | W31: 23530 | X31: นายราเมศร์ รอดยิ้ม | Y31: บ้านหนองปล้องโพช | Z31: 1669700091603 | AA31: พนักงานราชการ | AD31: 25 | AE31: 1669700091603 | AF31: นายราเมศร์ รอดยิ้ม | AG31: =EXACT(A31,AE31) -> TRUE | AH31: =EXACT(E31,AF31) -> TRUE | IV31: =SUM(A31:IU31) -> 1669700182908
A32: 1529900696062 | B32: นางสาว | C32: วราภรณ์ | D32: เครือปา | E32: นางสาววราภรณ์ เครือปา | F32: 5730773560 | G32: 23820 | N32: 875 | S32: 22945 | T32: นางสาววราภรณ์ เครือปา | U32: 5730773560 | V32: 22945 | W32: 23820 | X32: นางสาววราภรณ์ เครือปา | Y32: วัดเขาดุม | Z32: 1529900696062 | AA32: พนักงานราชการ | AD32: 26 | AE32: 1529900696062 | AF32: นางสาววราภรณ์ เครือปา | AG32: =EXACT(A32,AE32) -> TRUE | AH32: =EXACT(E32,AF32) -> TRUE | IV32: =SUM(A32:IU32) -> 1529900790467
A33: 1600800016974 | B33: นาง | C33: ชนิกานต์ | D33: พุ่มเปี่ยม | E33: นางชนิกานต์ พุ่มเปี่ยม | F33: 5730210973 | G33: 23950 | N33: 875 | P33: 600 | Q33: 8600 | S33: 13875 | T33: นางชนิกานต์ พุ่มเปี่ยม | U33: 5730210973 | V33: 13875 | W33: 23950 | X33: นางชนิกานต์ พุ่มเปี่ยม | Y33: สพป.นครสวรรค์ เขต 3 | Z33: 1600800016974 | AA33: พนักงานราชการ | AD33: 27 | AE33: 1600800016974 | AF33: นางชนิกานต์ พุ่มเปี่ยม | AG33: =EXACT(A33,AE33) -> TRUE | AH33: =EXACT(E33,AF33) -> TRUE | IV33: =SUM(A33:IU33) -> 1600800102699
A34: 1100701947443 | B34: นางสาว | C34: สุมาลี | D34: ดียิ้ม | E34: นางสาวสุมาลี ดียิ้ม | F34: 6280590224 | G34: 23530 | N34: 875 | S34: 22655 | T34: นางสาวสุมาลี ดียิ้ม | U34: 6280590224 | V34: 22655 | W34: 23530 | X34: นางสาวสุมาลี ดียิ้ม | Y34: บ้านรังงาม | Z34: 1100701947443 | AA34: พนักงานราชการ | AD34: 28 | AE34: 1100701947443 | AF34: นางสาวสุมาลี ดียิ้ม | AG34: =EXACT(A34,AE34) -> TRUE | AH34: =EXACT(E34,AF34) -> TRUE | IV34: =SUM(A34:IU34) -> 1100702040688
A35: 1670300202558 | B35: นางสาว | C35: บุญยาพร | D35: แสงอยู่ | E35: นางสาวบุญยาพร แสงอยู่ | F35: 6430275892 | G35: 23780 | N35: 875 | P35: 921 | S35: 21984 | T35: นางสาวบุญยาพร แสงอยู่ | U35: 6430275892 | V35: 21984 | W35: 23780 | X35: นางสาวบุญยาพร แสงอยู่ | Y35: บ้านไร่ประชาสรรค์ | Z35: 1670300202558 | AA35: พนักงานราชการ | AD35: 29 | AE35: 1670300202558 | AF35: นางสาวบุญยาพร แสงอยู่ | AG35: =EXACT(A35,AE35) -> TRUE | AH35: =EXACT(E35,AF35) -> TRUE | IV35: =SUM(A35:IU35) -> 1670300295882
A36: 1670500343805 | B36: นางสาว | C36: สุภาพร | D36: บุญเที่ยงตรง | E36: นางสาวสุภาพร บุญเที่ยงตรง | F36: 9835277230 | G36: 23870 | N36: 875 | P36: 1626 | S36: 21369 | T36: นางสาวสุภาพร บุญเที่ยงตรง | U36: 9835277230 | V36: 21369 | W36: 23870 | X36: นางสาวสุภาพร บุญเที่ยงตรง | Y36: บ้านหนองสีซอ | Z36: 1670500343805 | AA36: พนักงานราชการ | AD36: 30 | AE36: 1670500343805 | AF36: นางสาวสุภาพร บุญเที่ยงตรง | AG36: =EXACT(A36,AE36) -> TRUE | AH36: =EXACT(E36,AF36) -> TRUE | IV36: =SUM(A36:IU36) -> 1670500436784
A37: 1640701181748 | B37: นางสาว | C37: นภัสพร | D37: หลงแย้ม | E37: นางสาวนภัสพร หลงแย้ม | F37: 6170492171 | G37: 23780 | N37: 875 | S37: 22905 | T37: นางสาวนภัสพร หลงแย้ม | U37: 6170492171 | V37: 22905 | W37: 23780 | X37: นางสาวนภัสพร หลงแย้ม | Y37: วัดเขาวง | Z37: 1640701181748 | AA37: พนักงานราชการ | AD37: 31 | AE37: 1640701181748 | AF37: นางสาวนภัสพร หลงแย้ม | AG37: =EXACT(A37,AE37) -> TRUE | AH37: =EXACT(E37,AF37) -> TRUE | IV37: =SUM(AB37:IU37) -> 0
A38: 1629900484242 | B38: นางสาว | C38: กุสุมา | D38: กลิ่นหอม | E38: นางสาวกุสุมา กลิ่นหอม | F38: 6210661874 | G38: 23480 | N38: 875 | S38: 22605 | T38: นางสาวกุสุมา กลิ่นหอม | U38: 6210661874 | V38: 22605 | W38: 23480 | X38: นางสาวกุสุมา กลิ่นหอม | Y38: บ้านหนองขาม | Z38: 1629900484242 | AA38: พนักงานราชการ | AD38: 32 | AE38: 1629900484242 | AF38: นางสาวกุสุมา กลิ่นหอม | AG38: =EXACT(A38,AE38) -> TRUE | AH38: =EXACT(E38,AF38) -> TRUE | IV38: =SUM(A38:IU38) -> 1629900577287
A39: 1559900194598 | B39: นาย | C39: เสริฐรัชฒ์ | D39: บุญนาค | E39: นายเสริฐรัชฒ์ บุญนาค | F39: 5730780206 | G39: 23530 | N39: 875 | S39: 22655 | T39: นายเสริฐรัชฒ์ บุญนาค | U39: 5730780206 | V39: 22655 | W39: 23530 | X39: นายเสริฐรัชฒ์ บุญนาค | Y39: บ้านวังมะเดื่อ | Z39: 1559900194598 | AA39: พนักงานราชการ | AD39: 33 | AE39: 1559900194598 | AF39: นายเสริฐรัชฒ์ บุญนาค | AG39: =EXACT(A39,AE39) -> TRUE | AH39: =EXACT(E39,AF39) -> TRUE | IV39: =SUM(A39:IU39) -> 1559900287843
A40: 1619900321254 | B40: นางสาว | C40: ชลิตา | D40: สุทธินันท์ | E40: นางสาวชลิตา สุทธินันท์ | F40: 6600278943 | G40: 22660 | N40: 875 | S40: 21785 | T40: นางสาวชลิตา สุทธินันท์ | U40: 6600278943 | V40: 21785 | W40: 22660 | X40: นางสาวชลิตา สุทธินันท์ | Y40: บ้านหนองกระทุ่ม | Z40: 1619900321254 | AA40: พนักงานราชการ | AD40: 34 | AE40: 1619900321254 | AF40: นางสาวชลิตา สุทธินันท์ | AG40: =EXACT(A40,AE40) -> TRUE | AH40: =EXACT(E40,AF40) -> TRUE | IV40: =SUM(AD40:IU40) -> 0
A41: 1600900104026 | B41: นางสาว | C41: มนชิดา | D41: จงถือกลาง | E41: นางสาวมนชิดา จงถือกลาง | F41: 6616368939 | G41: 22660 | N41: 875 | S41: 21785 | T41: นางสาวมนชิดา จงถือกลาง | U41: 6616368939 | V41: 21785 | W41: 22660 | X41: นางสาวมนชิดา จงถือกลาง | Y41: บ้านโคกมะขวิด | Z41: 1600900104026 | AA41: พนักงานราชการ | AD41: 35 | AE41: 1600900104026 | AF41: นางสาวมนชิดา จงถือกลาง | AG41: =EXACT(A41,AE41) -> TRUE | AH41: =EXACT(E41,AF41) -> TRUE | IV41: =SUM(A41:IU41) -> 1600900193791
A42: 1600100632826 | B42: นางสาว | C42: สุภาภรณ์ | D42: ทองคำน้อย | E42: นางสาวสุภาภรณ์ ทองคำน้อย | F42: 6628208605 | G42: 22980 | N42: 875 | S42: 22105 | T42: นางสาวสุภาภรณ์ ทองคำน้อย | U42: 6628208605 | V42: 22105 | W42: 22980 | X42: นางสาวสุภาภรณ์ ทองคำน้อย | Y42: วัดสายลำโพงกลาง | Z42: 1600100632826 | AA42: พนักงานราชการ | AD42: 36 | AE42: 1600100632826 | AF42: นางสาวสุภาภรณ์ ทองคำน้อย | AG42: =EXACT(A42,AE42) -> TRUE | AH42: =EXACT(E42,AF42) -> TRUE | IV42: =SUM(A42:IU42) -> 1600100723871
...

Sheet สลิป
A2: 0
B3: ประจำเดือน | C3: =+ก.ย.2569!B2 -> เดือน กันยายน 2569
B4: ชื่อ | C4: =VLOOKUP(A2,ก.ย.2569!A7:E4129,5,0) -> #N/A | E4: โรงเรียน | F4: =VLOOKUP(A2,ก.ย.2569!A:Y,25,0) -> #N/A
B5: เลขที่บัญชี | C5: =VLOOKUP(A2,ก.ย.2569!A7:F4129,6,0) -> #N/A | E5: ตำแหน่ง | F5: =VLOOKUP(A2,ก.ย.2569!A7:AA443,27,0) -> #N/A
B7: รายการรับ
B8: ค่าตอบแทน | F8: =VLOOKUP(A2,ก.ย.2569!A7:W163,23,0) -> #N/A | G8: บาท
B9: ตกเบิก | F9: =VLOOKUP(A2,ก.ย.2569!A7:W163,18,0) -> #N/A | G9: บาท
B10: ค่าตอบแทนพิเศษ | G10: บาท
B11: รวมรับ | F11: =SUM(F8:F10) -> #N/A | G11: บาท
B12: รายการจ่าย
B13: ประกันสังคม | F13: =VLOOKUP(A2,ก.ย.2569!A7:N443,14,0) -> #N/A | G13: บาท
B14: สหกรณ์ออมทรัพย์ครูนครสวรรค์ | F14: =VLOOKUP(A2,ก.ย.2569!A7:Q443,17,0) -> #N/A | G14: บาท
B15: สหกรณ์ออมทรัพย์ครูอุทัยธานี | F15: =VLOOKUP(A2,ก.ย.2569!A7:O443,15,0) -> #N/A | G15: บาท
B16: กยศ/กรอ | F16: =VLOOKUP(A2,ก.ย.2569!A7:P443,16,0) -> #N/A | G16: บาท
B17: รวมจ่าย | F17: =SUM(F13:F16) -> #N/A | G17: บาท
B18: คงเหลือ | F18: =SUM(F11-F17) -> #N/A | G18: บาท
